BEGIN:VCALENDAR
VERSION:2.0
PRODID:-//San Carlos Flight Center - ECPv6.15.13//NONSGML v1.0//EN
CALSCALE:GREGORIAN
METHOD:PUBLISH
X-WR-CALNAME:San Carlos Flight Center
X-ORIGINAL-URL:https://sancarlosflight.com
X-WR-CALDESC:Events for San Carlos Flight Center
REFRESH-INTERVAL;VALUE=DURATION:PT1H
X-Robots-Tag:noindex
X-PUBLISHED-TTL:PT1H
BEGIN:VTIMEZONE
TZID:America/Los_Angeles
BEGIN:DAYLIGHT
TZOFFSETFROM:-0800
TZOFFSETTO:-0700
TZNAME:PDT
DTSTART:20190310T100000
END:DAYLIGHT
BEGIN:STANDARD
TZOFFSETFROM:-0700
TZOFFSETTO:-0800
TZNAME:PST
DTSTART:20191103T090000
END:STANDARD
BEGIN:DAYLIGHT
TZOFFSETFROM:-0800
TZOFFSETTO:-0700
TZNAME:PDT
DTSTART:20200308T100000
END:DAYLIGHT
BEGIN:STANDARD
TZOFFSETFROM:-0700
TZOFFSETTO:-0800
TZNAME:PST
DTSTART:20201101T090000
END:STANDARD
BEGIN:DAYLIGHT
TZOFFSETFROM:-0800
TZOFFSETTO:-0700
TZNAME:PDT
DTSTART:20210314T100000
END:DAYLIGHT
BEGIN:STANDARD
TZOFFSETFROM:-0700
TZOFFSETTO:-0800
TZNAME:PST
DTSTART:20211107T090000
END:STANDARD
END:VTIMEZONE
BEGIN:VEVENT
DTSTART;TZID=America/Los_Angeles:20201121T090000
DTEND;TZID=America/Los_Angeles:20201121T100000
DTSTAMP:20260421T210443
CREATED:20201120T170240Z
LAST-MODIFIED:20201120T170240Z
UID:10001603-1605949200-1605952800@sancarlosflight.com
SUMMARY:SpaceX launch of a Falcon 9 Block 5 Rocket - Vandenberg AFB
DESCRIPTION:Take a plane down to the Vandenberg area to watch a SpaceX launch of a Falcon 9 Block 5 Rocket.\nClick on the link below for more details:   https://www.spacelaunchschedule.com/launch-schedule/launch-details.php?id=1311\n\nNote: Date and Time may vary so check the link for updates
URL:https://sancarlosflight.com/event/spacex-launch-of-a-falcon-9-block-5-rocket-vandenberg-afb/
LOCATION:Vandenberg AFB
CATEGORIES:FOG Events
ATTACH;FMTTYPE=image/jpeg:https://sancarlosflight.com/wp-content/uploads/2020/11/SpaceX-Launch-11.21.20.jpg
ORGANIZER;CN="San Carlos Flight Center":MAILTO:info@sancarlosflight.com
END:VEVENT
END:VCALENDAR