BEGIN:VCALENDAR
VERSION:2.0
PRODID:-//San Carlos Flight Center - ECPv6.15.13//NONSGML v1.0//EN
CALSCALE:GREGORIAN
METHOD:PUBLISH
X-WR-CALNAME:San Carlos Flight Center
X-ORIGINAL-URL:https://sancarlosflight.com
X-WR-CALDESC:Events for San Carlos Flight Center
REFRESH-INTERVAL;VALUE=DURATION:PT1H
X-Robots-Tag:noindex
X-PUBLISHED-TTL:PT1H
BEGIN:VTIMEZONE
TZID:America/Los_Angeles
BEGIN:DAYLIGHT
TZOFFSETFROM:-0800
TZOFFSETTO:-0700
TZNAME:PDT
DTSTART:20240310T100000
END:DAYLIGHT
BEGIN:STANDARD
TZOFFSETFROM:-0700
TZOFFSETTO:-0800
TZNAME:PST
DTSTART:20241103T090000
END:STANDARD
BEGIN:DAYLIGHT
TZOFFSETFROM:-0800
TZOFFSETTO:-0700
TZNAME:PDT
DTSTART:20250309T100000
END:DAYLIGHT
BEGIN:STANDARD
TZOFFSETFROM:-0700
TZOFFSETTO:-0800
TZNAME:PST
DTSTART:20251102T090000
END:STANDARD
BEGIN:DAYLIGHT
TZOFFSETFROM:-0800
TZOFFSETTO:-0700
TZNAME:PDT
DTSTART:20260308T100000
END:DAYLIGHT
BEGIN:STANDARD
TZOFFSETFROM:-0700
TZOFFSETTO:-0800
TZNAME:PST
DTSTART:20261101T090000
END:STANDARD
END:VTIMEZONE
BEGIN:VEVENT
DTSTART;TZID=America/Los_Angeles:20251001T190000
DTEND;TZID=America/Los_Angeles:20251001T203000
DTSTAMP:20260422T015303
CREATED:20250916T004106Z
LAST-MODIFIED:20250916T004106Z
UID:10002448-1759345200-1759350600@sancarlosflight.com
SUMMARY:Landing Secrets Revealed
DESCRIPTION:In some ways\, learning to fly is largely about learning to land. Pilots of small planes need to perform at least one safe landing on nearly every flight. It’s the type of skill that is learned once and then perfected for the rest of a pilot’s life. How are your landings? Would you like to hear a few secrets to landing that can help you improve your landing ability? \nJoin SCFC Chief Pilot Dan Dyer for a discussion about landing philosophy and some insider tips on landing stemming from his thousands of hours of instruction in nosewheel aircraft. Learn about the two halves of the flare\, the actual role of the pilot (you may be surprised!)\, how important it is to look good\, and the critical importance of time spent at altitude playing with the horizon. This presentation may be of value to student pilots working on learning to land for the first time\, but it also may offer insights to experienced pilots and CFIs looking to take their landing ability to the next level. \nDan Dyer is the founder and Chief Pilot of San Carlos Flight Center\, and has built the motto of Safety\, Community\, and Adventure for over 12 years. Dan was an instructor for 19 years\, accumulated over 4\,000 flight hours\, and is the Bay Area’s local expert in crosswind landing instruction. He is known for finding simple and innovative ways to explain complex topics and regularly speaks on advanced ground school topics. Find out more about Dan at www.sancarlosflight.com or contact him at dan@sancarlosflight.com
URL:https://sancarlosflight.com/event/landing-secrets-revealed-2/
LOCATION:San Carlos Flight Center\, Select a Country:
CATEGORIES:SCFC Events
ATTACH;FMTTYPE=image/jpeg:https://sancarlosflight.com/wp-content/uploads/2025/09/Cyrus_Landing-3-scaled.jpg
ORGANIZER;CN="San Carlos Flight Center":MAILTO:info@sancarlosflight.com
END:VEVENT
BEGIN:VEVENT
DTSTART;TZID=America/Los_Angeles:20251008T190000
DTEND;TZID=America/Los_Angeles:20251008T203000
DTSTAMP:20260422T015303
CREATED:20250924T181135Z
LAST-MODIFIED:20251009T014636Z
UID:10002452-1759950000-1759955400@sancarlosflight.com
SUMMARY:Flying the Bay Tour
DESCRIPTION:This seminar will be held in person at SCFC\, attendance is free and open to all. Web Members will still be able to access our seminars online\, both live and recorded. Click here to learn more about the transition. \n  \nWant to learn more about operations at local Bay Area Airports? Click here to watch a similar seminar available for Members on the Members Only Seminar Library. \n  \n\n\n\nFlying in the San Francisco Bay area is spectacular\, a real privilege for local pilots. The Pacific Ocean\, a dramatic coastline\, beautiful hills\, and many famous landmarks. As pilots\, we are afforded a rare bird’s eye view that we long to share with our friends and family. \nSo what exactly is a “Bay Tour”? What airspace is present along the Bay Tour\, and what new implementations will require pilots to take into account? Join Senior CFI\, Michael Dutton to examine the airspace\, explain the “Bay Tour” and how a pilot can accomplish one in the safest\, simplest\, most enjoyable manner. \nIn this seminar\, he’ll review the various overlapping airspaces in the area\, the territories for each local ATC facility\, and the routings most commonly used by Flight Center pilots and suggested by ATC. You’ll learn what options are available to you even if SQL ATIS has the phrase “San Francisco is not taking surface area transitions.” \nThis is a thorough discussion of the regulations and procedures used in flying a San Francisco Bay Tour through Class B and C airspace. If you are new to the Bay area\, want to imagine the different sights you’ll see\, or just want to improve your understanding of local airspace customs and procedures\, please join us for this popular seminar. \n \n\n\nMichael Dutton is a CFI\, and CFII in fixed wing\, with private pilot privileges in helicopters. He’s been flying and working at San Carlos airport for over ten years\, first working for the Flight Center before moving on to Airport Operations and now as Flight Instructor. His past work experience also includes time with NASA and San Carlos Airport administration. \n \n\n\nSan Carlos Flight Center (SCFC) is the SF Bay Area’s most dynamic flying club\, committed to building general aviation through safety\, community\, and adventure. AOPA has consistently recognized SCFC in their Best Flight School survey\, most recently in 2023 as a Distinguished Flight School for the third year in a row. \nSCFC is committed to promoting safety in general aviation through our regular safety seminars and guest speaker programs. Our seminars are free to watch when attended in person at our facility in San Carlos but live streaming and viewing recorded seminars are exclusively available to members. Click here or contact an SCFC member service rep at (650) 946-1700 for more information about online access to our web library of over 500 recorded safety seminars and live-streamed content.
URL:https://sancarlosflight.com/event/flying-the-bay-tour-2025/
LOCATION:San Carlos Flight Center\, Select a Country:
CATEGORIES:SCFC Events
ATTACH;FMTTYPE=image/jpeg:https://sancarlosflight.com/wp-content/uploads/2023/04/GG-Bridge-shot-scaled.jpeg
ORGANIZER;CN="San Carlos Flight Center":MAILTO:info@sancarlosflight.com
END:VEVENT
BEGIN:VEVENT
DTSTART;TZID=America/Los_Angeles:20251015T190000
DTEND;TZID=America/Los_Angeles:20251015T210000
DTSTAMP:20260422T015303
CREATED:20250911T222031Z
LAST-MODIFIED:20251016T015537Z
UID:10002444-1760554800-1760562000@sancarlosflight.com
SUMMARY:Jeppesen vs. FAA Instrument Plates
DESCRIPTION:IFR pilots must have a thorough understanding of the charts they use. Pilots who have been flying IFR for years may be familiar with Jeppesen IFR Charts. Instrument students and newer IFR pilots may be more familiar with Aeronav\, published by the FAA. Both of these providers of charts offer their own ways of relaying information. \nSan Carlos Flight Center invites Senior Flight Instructor\, Travis Bender\, to lead a discussion between FAA and Jeppesen charts and their application and use in IFR conditions. While the charts may look very similar at first glance\, Travis will dive into the differences between the two and how you can effectively use each.  Jeppesen charts’ advantages include ease of access to information and more details\, but at a premium cost\, while the FAA charts offer a free resource available to everyone.  \nJoin us to learn about the advantages and disadvantages of both of these chart providers\, and make a more informed decision on which to use whilst flying IFR. \nTravis Bender is a Senior Flight Instructor at San Carlos Flight Center. He currently holds a CFI/CFII certificate and earned the majority of his certificates here at the Flight Center. Prior to instructing\, Travis led sustainable procurement efforts for a large Silicon Valley technology company.
URL:https://sancarlosflight.com/event/jeppesen-vs-faa-instrument-plates/
LOCATION:San Carlos Flight Center\, Select a Country:
CATEGORIES:SCFC Events
ATTACH;FMTTYPE=image/png:https://sancarlosflight.com/wp-content/uploads/2025/09/Screenshot-2025-09-11-at-3.19.46 PM.png
ORGANIZER;CN="San Carlos Flight Center":MAILTO:info@sancarlosflight.com
END:VEVENT
END:VCALENDAR