BEGIN:VCALENDAR
VERSION:2.0
PRODID:-//San Carlos Flight Center - ECPv6.15.13//NONSGML v1.0//EN
CALSCALE:GREGORIAN
METHOD:PUBLISH
X-ORIGINAL-URL:https://sancarlosflight.com
X-WR-CALDESC:Events for San Carlos Flight Center
REFRESH-INTERVAL;VALUE=DURATION:PT1H
X-Robots-Tag:noindex
X-PUBLISHED-TTL:PT1H
BEGIN:VTIMEZONE
TZID:America/Los_Angeles
BEGIN:DAYLIGHT
TZOFFSETFROM:-0800
TZOFFSETTO:-0700
TZNAME:PDT
DTSTART:20240310T100000
END:DAYLIGHT
BEGIN:STANDARD
TZOFFSETFROM:-0700
TZOFFSETTO:-0800
TZNAME:PST
DTSTART:20241103T090000
END:STANDARD
BEGIN:DAYLIGHT
TZOFFSETFROM:-0800
TZOFFSETTO:-0700
TZNAME:PDT
DTSTART:20250309T100000
END:DAYLIGHT
BEGIN:STANDARD
TZOFFSETFROM:-0700
TZOFFSETTO:-0800
TZNAME:PST
DTSTART:20251102T090000
END:STANDARD
BEGIN:DAYLIGHT
TZOFFSETFROM:-0800
TZOFFSETTO:-0700
TZNAME:PDT
DTSTART:20260308T100000
END:DAYLIGHT
BEGIN:STANDARD
TZOFFSETFROM:-0700
TZOFFSETTO:-0800
TZNAME:PST
DTSTART:20261101T090000
END:STANDARD
END:VTIMEZONE
BEGIN:VEVENT
DTSTART;TZID=America/Los_Angeles:20250604T190000
DTEND;TZID=America/Los_Angeles:20250604T210000
DTSTAMP:20260421T030423
CREATED:20250505T172641Z
LAST-MODIFIED:20250605T014740Z
UID:10002406-1749063600-1749070800@sancarlosflight.com
SUMMARY:Flying in the Pacific Northwest
DESCRIPTION:The Pacific Northwest is a hub of aviation industry and innovation\, and what better way to experience this cosmopolitan region than in the air? However\, with a major international airport\, multiple military bases\, an international border\, and rapidly shifting weather patterns\, flying in this airspace isn’t easy to navigate. \nSan Carlos Flight Center invites CFIs Travis Bender and Herb Patten to delve into Seattle Airspace\, flying across the US/Canada border\, and different ways a Bay Area Pilot can reach the region. This seminar will break up the complex area into smaller areas so it can be interpreted and flown easily for any pilot hoping to fly in the region. In addition\, we will also discuss proper procedures for cross-border flying\, as well as how to handle some of the unique challenges of flying in the region\, such as terrain and weather. Finally\, they will highlight how to fly from the Bay Area to the Pacific Northwest VFR. \nIf you are hinting at flying to Seattle or Vancouver in the near future\, this seminar will help you get there efficiently and safely. It is also a great primer for those attending our FlyOutGroup trip to Seattle and Canada in July. \nHerb Patten is a Senior Instructor at the San Carlos Flight Center\, a CFII\, an FAA-certificated advanced and instrument ground instructor\, and past SCFC Chief Pilot. He is an instrument-rated commercial pilot who has flown over 2\,500 hours to more than 130 different California airports. He teaches private pilot ground school at San Carlos Flight Center and is the current chairman of the Upwind Foundation\, famous for its Upwind Summer Scholarship Program. In 2025\, Herb was named a Distinguished Flight Instructor by AOPA. \nTravis Bender is a CFI and CFII at San Carlos Flight Center. He earned his primary certificates right here at SCFC and now conducts training for student pilots through Flight Instructors\, as well as high-performance checkouts and mountain training. Prior to instructing\, Travis worked in sustainable procurement for a large Silicon Valley company. He also spent four years flying in the Pacific Northwest while attending college at the University of Puget Sound. \nSan Carlos Flight Center (SCFC) is the SF Bay Area’s most dynamic flying club\, committed to building general aviation through safety\, community\, and adventure. AOPA has consistently recognized SCFC in their Best Flight School survey\, most recently in 2024 as a Distinguished Flight School. \nSCFC is committed to promoting safety in general aviation through our regular safety seminars and guest speaker programs. Our seminars are free to watch when attended in person at our facility in San Carlos but live streaming and viewing recorded seminars are exclusively available to members. Click here or contact an SCFC member service rep at (650) 946-1700 for more information about online access to our web library of over 500 recorded safety seminars and live-streamed content.
URL:https://sancarlosflight.com/event/flying-in-the-pacific-northwest-3/
LOCATION:San Carlos Flight Center\, Select a Country:
CATEGORIES:SCFC Events
ATTACH;FMTTYPE=image/jpeg:https://sancarlosflight.com/wp-content/uploads/2025/05/unnamed.jpg
ORGANIZER;CN="San Carlos Flight Center":MAILTO:info@sancarlosflight.com
END:VEVENT
BEGIN:VEVENT
DTSTART;VALUE=DATE:20250607
DTEND;VALUE=DATE:20250609
DTSTAMP:20260421T030423
CREATED:20250421T145634Z
LAST-MODIFIED:20250616T150649Z
UID:10002401-1749254400-1749427199@sancarlosflight.com
SUMMARY:2-Day Mountain Flying Training Trip
DESCRIPTION:This two-day training trip is designed to help California pilots gain experience with popular routes and airports in the Sierra Nevada Mountains. While the primary goal is education\, many participants use the flight time to work toward high-performance endorsements\, C182 checkouts\, mountain checkouts\, or G1000 avionics checkouts. \nTrip Highlights\n– Learn to fly safely over mountainous terrain\n– Learn about high-elevation airport operations\n– Experience some of California’s highest and trickiest airports safely\n– See the beauty of the Sierras and stay overnight in Reno \n \n \n  \n \nThere is a $300 per person deposit to ensure interest. This deposit will be applied towards aircraft and instructor time. All pilots will be paired with an SCFC CFI in an SCFC Aircraft. Deposit is refundable if you withdraw from the trip with less than 4 days notice. \nSuggested Hotels at Reno: \nWhitney Peak Hotel Reno\, Tapestry Collection by Hilton\nCourtyard Reno Downtown/Riverfront \nAircraft rental and instructor time will be billed upon completion of the trip. The above is simply a breakdown of expected costs.\n \nContact the SCFC Front Desk at (650) 946-1700 to sign up for the trip.
URL:https://sancarlosflight.com/event/2-day-mountain-flying-training-trip-june2025/
LOCATION:San Carlos Flight Center\, Select a Country:
CATEGORIES:FOG Events
ATTACH;FMTTYPE=image/jpeg:https://sancarlosflight.com/wp-content/uploads/2023/09/unnamed.jpg
ORGANIZER;CN="San Carlos Flight Center":MAILTO:info@sancarlosflight.com
END:VEVENT
BEGIN:VEVENT
DTSTART;TZID=America/Los_Angeles:20250607T120000
DTEND;TZID=America/Los_Angeles:20250607T130000
DTSTAMP:20260421T030423
CREATED:20250529T155334Z
LAST-MODIFIED:20250607T183522Z
UID:10002414-1749297600-1749301200@sancarlosflight.com
SUMMARY:Airplane Care Tips for Pilots and Owners
DESCRIPTION:A safe flying adventure\, requires a safe pilot and a safe airplane. As pilots\, we do what we can to inspect the plane before flight and to return it to the flight line in the same condition in which we found it. Mechanics who service and maintain aircraft we fly often have a deeper perspective. What can an experienced mechanic tell pilots and airplane owners that can improve our care and handling of the aircraft? \nTim Davis\, a mechanic member of the SCFC Maintenance Team certified with Inspection Authority has offered to share with us some insights from the past few months of servicing SCFC fleet and outside aircraft. Some of the airplane care tips are for pilots\, and some are for airplane owners who do preventative maintenance on their own planes. Do you know what adjustable item in the cockpit is the one mostly easily damaged inadvertently by pilots? Is there really a right way to clean the windshield? Is there a pilot role in propeller care? \nPilots of all levels can learn from hearing stories from mechanics\, especially those who are able to communicate important topics to pilots who want a deeper understanding of how to protect and care for our aircraft. We hope you’ll join us. \nTim Davis has been an Airframe and Powerplant mechanic at San Carlos Flight Center since 2020. A Bay Area native\, he worked as a Quality Analyst for Electronic Arts and Blizzard Entertainment before completing aircraft maintenance training at City College of San Francisco and earning his A&P certificate.  In 2024\, Tim earned his IA and is now a senior member of the SCFC Maintenance Team. \nSan Carlos Flight Center (SCFC) is the SF Bay Area’s most dynamic flying club\, committed to building general aviation through safety\, community\, and adventure. AOPA has consistently recognized SCFC in their Best Flight School survey\, most recently in 2024 as a Distinguished Flight School for the fourth year in a row. \nSCFC is committed to promoting safety in general aviation through our regular safety seminars and guest speaker programs. Our seminars are free to watch when attended in person at our facility in San Carlos but live streaming and viewing recorded seminars are exclusively available to members. Click here or contact an SCFC member service rep at (650) 946-1700 for more information about online access to our web library of over 500 recorded safety seminars and live-streamed content.
URL:https://sancarlosflight.com/event/airplane-care-tips/
LOCATION:San Carlos Flight Center\, Select a Country:
CATEGORIES:SCFC Events
ATTACH;FMTTYPE=image/png:https://sancarlosflight.com/wp-content/uploads/2022/01/Screen-Shot-2022-01-20-at-4.00.20-PM.png
ORGANIZER;CN="San Carlos Flight Center":MAILTO:info@sancarlosflight.com
END:VEVENT
BEGIN:VEVENT
DTSTART;TZID=America/Los_Angeles:20250611T190000
DTEND;TZID=America/Los_Angeles:20250611T203000
DTSTAMP:20260421T030423
CREATED:20250531T225808Z
LAST-MODIFIED:20250612T013859Z
UID:10002419-1749668400-1749673800@sancarlosflight.com
SUMMARY:SQL Pilot/Controller Meeting
DESCRIPTION:San Carlos Flight Center is excited to welcome in the new Tower Manager from KSQL Control Tower. The new team has been fantastic through the recent company transition and we’ve been grateful to have positive control on the field again. We hope you can join us to meet part of the team in person. \nClass D airports sometimes get underestimated as the smallest of the tower-controller airports. But pilots and controller here know that we are a very busy training airport with thousands of operations. Please join us for the open conversation about the safety of flight operations at KSQL. What can pilots better understand about controller workload and traffic flow. What can controllers understand about how procedures affect flight operations. Please bring questions that relate to operations at San Carlos Airport to pass to our panel host\, or email us your questions in advance at seminars@sancarlosflight.com. \nPlease note: because of the expected size of the audience\, we will be using our full classroom configuration.  This will necessarily limit attendance only to those who have pre-registered here on our website. \n  \nSan Carlos Flight Center is on the southwest side of the airport and there are no transient aircraft parking spots on this side of the field.  All Transient Parking is on the other side\, adjacent to the SQL Terminal Building. If you plan to fly in for the event\, please be aware that we have no parking spots and that you’ll need to walk 0.7 miles around the airport from airport Transient Parking to our offices.
URL:https://sancarlosflight.com/event/pilot-controller-meeting/
LOCATION:San Carlos Flight Center\, Select a Country:
CATEGORIES:SCFC Events
ATTACH;FMTTYPE=image/jpeg:https://sancarlosflight.com/wp-content/uploads/2024/10/SQL-tower-Sunset-6-scaled.jpg
ORGANIZER;CN="San Carlos Flight Center":MAILTO:info@sancarlosflight.com
END:VEVENT
BEGIN:VEVENT
DTSTART;TZID=America/Los_Angeles:20250614T120000
DTEND;TZID=America/Los_Angeles:20250614T133000
DTSTAMP:20260421T030423
CREATED:20250602T164421Z
LAST-MODIFIED:20250614T193542Z
UID:10002420-1749902400-1749907800@sancarlosflight.com
SUMMARY:What's Next? Training for Commercial Pilot or Flight Instructor
DESCRIPTION:For many pilots\, the adventure stops at Private Pilot\, which allows them the freedom of taking family and friends on flights to any airport of their choice. Some may add on an instrument rating\, to protect the ability to depart and arrive on days with clouds that would stop a VFR-only pilot. \nSome pilots want more. For pilots who want to make a career change into aviation\, the next steps are often through the Commercial Pilot and Flight Instructor certificates. Before taking the leap to start advanced training\, you may want to find out more about what the timeframe and workload is required to complete those certificates. \nSan Carlos Flight Center has asked Senior Instructor Derek Vejby to discuss the process of training for his commercial and flight instructor certificates. In this seminar\, Derek will highlight the steps he took to train and prepare for those two checkrides\, and will review the prerequisites for the ratings\, the maneuvers you must master\, and the relevant knowledge that must be acquired. A Commercial Pilot certificate calls for extensive familiarity with all things related to flying\, and a Flight Instructor certificate requires pilot mastery of flight skills and all knowledge areas. Many pilots will be surprised to find that thorough\, complete Private Pilot training like what is done at the Flight Center sets about 70% of foundation required on which Commercial and CFI are built. \nFor anyone looking to train towards a career in aviation\, join us for this seminar to hear what is in store for you. \nDerek Vejby is an SF Bay Area local and Senior CFI with the San Carlos Flight Center. In almost 2\,000 hours of instruction given in both the VFR and IFR worlds\, he continues to be an ambassador for aviation safety and airmanship excellence. He considers it a privilege to be able to cultivate and share his experiences through which others may learn and connect. \nSan Carlos Flight Center (SCFC) is the SF Bay Area’s most dynamic flying club\, committed to building general aviation through safety\, community\, and adventure. AOPA has consistently recognized SCFC in their Best Flight School survey\, most recently in 2024 as a Distinguished Flight School for the fourth year in a row. \nSCFC is committed to promoting safety in general aviation through our regular safety seminars and guest speaker programs. Our seminars are free to watch when attended in person at our facility in San Carlos but live streaming and viewing recorded seminars are exclusively available to members. Click here or contact an SCFC member service rep at (650) 946-1700 for more information about online access to our web library of over 500 recorded safety seminars and live-streamed content.
URL:https://sancarlosflight.com/event/commercial-or-cfi/
LOCATION:San Carlos Flight Center\, Select a Country:
CATEGORIES:SCFC Events
ATTACH;FMTTYPE=image/png:https://sancarlosflight.com/wp-content/uploads/2020/12/Screen-Shot-2020-12-31-at-2.42.53-PM.png
ORGANIZER;CN="San Carlos Flight Center":MAILTO:info@sancarlosflight.com
END:VEVENT
BEGIN:VEVENT
DTSTART;TZID=America/Los_Angeles:20250618T190000
DTEND;TZID=America/Los_Angeles:20250618T203000
DTSTAMP:20260421T030423
CREATED:20250531T134311Z
LAST-MODIFIED:20250531T134531Z
UID:10002418-1750273200-1750278600@sancarlosflight.com
SUMMARY:Autopilot Basics
DESCRIPTION:The auto pilot can be a great aid to pilots during flights. When configured properly it can handle many of routine Aviate and Navigate tasks: climb\, hold altitude\, intercept and track a course. As with any advanced tool\, knowing how to use it is critical in using it safely and effectively. \nHow well do you understand the capabilities of the autopilot? What are the various modes? What exactly is the proper preflight test procedure? How does the autopilot work? What happens when certain instrument fail – does the autopilot work? \nJoin us as Sid Basu\, CFI\, explains the functions of various autopilots as well as the mechanisms that make them work. If you have always wondered about the details of the autopilot\, you will want to attend this seminar. \nSid Basu is a Senior Instructor at SCFC with Airplane Single Engine\, Multiengine and Instrument ratings\, over 3300 hours total time\, and 2600 hours dual given. He has been flying since 2008 and has been instructing at San Carlos Flight Center since 2017. 
URL:https://sancarlosflight.com/event/autopilot-basics/
CATEGORIES:SCFC Events
ATTACH;FMTTYPE=image/jpeg:https://sancarlosflight.com/wp-content/uploads/2025/05/kap140image.jpg
ORGANIZER;CN="San Carlos Flight Center":MAILTO:info@sancarlosflight.com
END:VEVENT
BEGIN:VEVENT
DTSTART;TZID=America/Los_Angeles:20250621T090000
DTEND;TZID=America/Los_Angeles:20250621T120000
DTSTAMP:20260421T030423
CREATED:20250529T151601Z
LAST-MODIFIED:20250529T151619Z
UID:10002413-1750496400-1750507200@sancarlosflight.com
SUMMARY:EAA Chapter 20 Young Eagles @ SCFC
DESCRIPTION:SCFC is hosting EAA Chapter 20 for their Young Eagles event\, with volunteer pilots sharing flights for young people. \nLearn more about Young Eagles from the EAA’s website.
URL:https://sancarlosflight.com/event/eagles-jun-2025/
LOCATION:San Carlos Flight Center
CATEGORIES:SCFC Events
ATTACH;FMTTYPE=image/png:https://sancarlosflight.com/wp-content/uploads/2025/02/eaa20.png
ORGANIZER;CN="San Carlos Flight Center":MAILTO:info@sancarlosflight.com
END:VEVENT
BEGIN:VEVENT
DTSTART;TZID=America/Los_Angeles:20250625T190000
DTEND;TZID=America/Los_Angeles:20250625T203000
DTSTAMP:20260421T030423
CREATED:20250529T194312Z
LAST-MODIFIED:20250529T194312Z
UID:10002416-1750878000-1750883400@sancarlosflight.com
SUMMARY:Planning and Dispatching a Part 135 Charter Flight
DESCRIPTION:GA pilots know something about flight planning\, but Part 135 charter pilots have to do much more to plan and dispatch a flight. \nSan Carlos Flight Center invites long-time charter captain Bennett Taber to introduce us to the ways that professional charter companies reduce risks to the flying public and comply with a number of FAA regulations. In this seminar\, Ben will explain how the rules imposed on charter operations were created to reduce risk to life and property\, along with explaining why you are forbidden to offer your flying services to the general public. \nCapt. Bennett Taber was a check airman and training captain with over 35 years\, 30\,000 landings\, and well over 19\,000 hours of air charter experience throughout the western United States. His first 500 hours of flying were conducted in Alaska. Captain Taber managed flight operations and charter sales for Dreamline Aviation in the San Francisco Bay Area and was a company Training Captain in all models of Beech King Air aircraft. \nSan Carlos Flight Center (SCFC) is the SF Bay Area’s most dynamic flying club\, committed to building general aviation through safety\, community\, and adventure. AOPA has consistently recognized SCFC in their Best Flight School survey\, most recently in 2024 as a Distinguished Flight School for the fourth year in a row. \nSCFC is committed to promoting safety in general aviation through our regular safety seminars and guest speaker programs. Our seminars are free to watch when attended in person at our facility in San Carlos but live streaming and viewing recorded seminars are exclusively available to members. Click here or contact an SCFC member service rep at (650) 946-1700 for more information about online access to our web library of over 500 recorded safety seminars and live-streamed content.
URL:https://sancarlosflight.com/event/dispatch-charter/
LOCATION:San Carlos Flight Center\, Select a Country:
CATEGORIES:SCFC Events
ATTACH;FMTTYPE=image/png:https://sancarlosflight.com/wp-content/uploads/2021/10/Screen-Shot-2021-10-29-at-4.47.18-PM.png
ORGANIZER;CN="San Carlos Flight Center":MAILTO:info@sancarlosflight.com
END:VEVENT
BEGIN:VEVENT
DTSTART;TZID=America/Los_Angeles:20250628T110000
DTEND;TZID=America/Los_Angeles:20250628T123000
DTSTAMP:20260421T030423
CREATED:20250602T181620Z
LAST-MODIFIED:20250602T182224Z
UID:10002421-1751108400-1751113800@sancarlosflight.com
SUMMARY:Women in Aviation @ SCFC\, June Meeting
DESCRIPTION:Thank you to everyone who joined us for the SCFC Women in Aviation meeting last month! We had a wonderful turnout despite the holiday weekend and enjoyed coffee and homemade pastries while diving into thoughtful community-building activities. We discussed chapter formation\, celebrated recent wins\, and shared scholarship resources. \nOur June meeting will be on Saturday\, June 28th at 11:00 AM at San Carlos Flight Center—join us for bagels & berries\, vision boards\, and intentional discussion. Save the date and help us continue growing our SCFC WAI community!
URL:https://sancarlosflight.com/event/wai-scfc-june-meeting/
LOCATION:San Carlos Flight Center
CATEGORIES:SCFC Events
ATTACH;FMTTYPE=image/jpeg:https://sancarlosflight.com/wp-content/uploads/2025/06/Women-in-Aviation-SCFC-April.jpg
ORGANIZER;CN="San Carlos Flight Center":MAILTO:info@sancarlosflight.com
END:VEVENT
END:VCALENDAR