BEGIN:VCALENDAR
VERSION:2.0
PRODID:-//San Carlos Flight Center - ECPv6.15.13//NONSGML v1.0//EN
CALSCALE:GREGORIAN
METHOD:PUBLISH
X-WR-CALNAME:San Carlos Flight Center
X-ORIGINAL-URL:https://sancarlosflight.com
X-WR-CALDESC:Events for San Carlos Flight Center
REFRESH-INTERVAL;VALUE=DURATION:PT1H
X-Robots-Tag:noindex
X-PUBLISHED-TTL:PT1H
BEGIN:VTIMEZONE
TZID:America/Los_Angeles
BEGIN:DAYLIGHT
TZOFFSETFROM:-0800
TZOFFSETTO:-0700
TZNAME:PDT
DTSTART:20230312T100000
END:DAYLIGHT
BEGIN:STANDARD
TZOFFSETFROM:-0700
TZOFFSETTO:-0800
TZNAME:PST
DTSTART:20231105T090000
END:STANDARD
BEGIN:DAYLIGHT
TZOFFSETFROM:-0800
TZOFFSETTO:-0700
TZNAME:PDT
DTSTART:20240310T100000
END:DAYLIGHT
BEGIN:STANDARD
TZOFFSETFROM:-0700
TZOFFSETTO:-0800
TZNAME:PST
DTSTART:20241103T090000
END:STANDARD
BEGIN:DAYLIGHT
TZOFFSETFROM:-0800
TZOFFSETTO:-0700
TZNAME:PDT
DTSTART:20250309T100000
END:DAYLIGHT
BEGIN:STANDARD
TZOFFSETFROM:-0700
TZOFFSETTO:-0800
TZNAME:PST
DTSTART:20251102T090000
END:STANDARD
END:VTIMEZONE
BEGIN:VEVENT
DTSTART;TZID=America/Los_Angeles:20240916T190000
DTEND;TZID=America/Los_Angeles:20240916T210000
DTSTAMP:20260419T063303
CREATED:20240828T172103Z
LAST-MODIFIED:20240905T154409Z
UID:10002308-1726513200-1726520400@sancarlosflight.com
SUMMARY:Full Moon Flyers: Nut Tree (VCB)
DESCRIPTION:This month join Full Moon Flyers in Vacaville as we fly up to Nut Tree Airport on September 16! At just over 50 NM\, Nut Tree makes for an easy cross country destination. This is a great opportunity for students or pilots looking to gain valuable night experience. The airport is lit as night and you can follow the well lit I-80 back towards Oakland for an easy flight back! \nOnce we land in Nut Tree\, we will be dining at Fenton’s Restaurant and Creamery. Known for their ice cream\, Fenton’s also offers a wide variety of sandwiches\, burgers\, and salads at reasonable prices. Don’t forget the ice cream!  \nOnce you land in VCB\, secure your aircraft on the transient parking ramp. The walk is about 5-10 minutes to the restaurant depending on your walking speed. We will meet at Fenton’s by 7PM.  Make sure you RSVP so we have an accurate headcount! We’ll see you there!
URL:https://sancarlosflight.com/event/full-moon-flyers-nut-tree-vcb-2/
CATEGORIES:FOG Events
ATTACH;FMTTYPE=image/jpeg:https://sancarlosflight.com/wp-content/uploads/2024/08/FMF-1.jpg
END:VEVENT
BEGIN:VEVENT
DTSTART;TZID=America/Los_Angeles:20240918T190000
DTEND;TZID=America/Los_Angeles:20240918T210000
DTSTAMP:20260419T063303
CREATED:20240903T174517Z
LAST-MODIFIED:20240903T174517Z
UID:10002311-1726686000-1726693200@sancarlosflight.com
SUMMARY:2024-09 IMC Club SQL
DESCRIPTION:NOTE: Since thils event will involve active discussion\, it will be held over Zoom and not broadcast via Livestream. Please RSVP by 12pm on Sep 18 to receive Zoom meeting info via email before the event starts. \n  \nMost pilots like analyzing scenarios and trying to answer the age old question of what would I do in that situation? Imagine if you could also hear the opinions of other pilots or get feedback on your approach to a situation. Well\, that is exactly what the IMC Club provides. \nJoin the local EAA Chapter 20 IMC Club meeting to review a scenario and share in the discussions with fellow pilots. You will get an opportunity to hear other pilots’ analysis as well as the group critique of various solutions. \nWhether you are a newly minted instrument rated pilot and anxious to learn from others or you are a seasoned pilot with experience to share\, the IMC Club is a welcome home for both. \nLearn more about IMC Club at http://www.eaa20.org/about.html \n  \nBrian Eliot is San Carlos Flight Center’s Assistant Chief Pilot and resident expert for IFR training and Garmin G1000 avionics. He has been flying since 1995 and received all his training in the Bay Area. Brian previously worked as a broadcast engineer\, a software developer\, and taught computer science at both the undergraduate and graduate levels. He regularly presents at San Carlos Flight Center safety seminars and has a reputation for making complex concepts easy to learn and understand. \n  \nAbout San Carlos Flight Center: \n\n\n\nSan Carlos Flight Center (SCFC) is the SF Bay Area’s most dynamic flying club\, committed to building general aviation through safety\, community\, and adventure. AOPA has consistently recognized SCFC in their Best Flight School survey\, most recently in 2023 as a Distinguished Flight School for the third year in a row. \n\n\n\n\nSCFC is committed to promoting safety in general aviation through our regular safety seminars and guest speaker programs. Our seminars are free to watch when attended in person at our facility in San Carlos but live streaming and viewing recorded seminars are exclusively available to members. Click here or contact an SCFC member service rep at (650) 946-1700 for more information about online access to our web library of over 500 recorded safety seminars and live-streamed content.
URL:https://sancarlosflight.com/event/2024-09-imc-club-sql/
CATEGORIES:SCFC Events
END:VEVENT
BEGIN:VEVENT
DTSTART;VALUE=DATE:20240920
DTEND;VALUE=DATE:20240921
DTSTAMP:20260419T063303
CREATED:20240904T103804Z
LAST-MODIFIED:20240913T235820Z
UID:10002313-1726790400-1726876799@sancarlosflight.com
SUMMARY:NorCal TRACON Tour
DESCRIPTION:Have you ever wanted to get a depper understanding of how NorCal controllers manage air traffic? Why and what happens when you are asked to IDENT? If so\, join the FOG group for a unique tour of the NorCal TRACON facility in Sacramento. If interested\, email info@sancarlosflight.com. \nThe tour is scheduled for 10 am and is located in Sacramento. Pilots interested in this tour must be US Citizens and must be pre-authorized in advance. We will fly into KMHR and then take a short ride to the NorCal facility. The tour will last approximately 1 1/2 to 2 hours. If interested\, you should plan to set aside the entire day on Friday\, September 20th. \nFor more details email Herb Patten at San Carlos Flight Center.
URL:https://sancarlosflight.com/event/norcal-tracon-tour/
CATEGORIES:FOG Events
ATTACH;FMTTYPE=image/png:https://sancarlosflight.com/wp-content/uploads/2024/09/NorCal.png
ORGANIZER;CN="FlyOutGroup":MAILTO:flyoutgroup@gmail.com
END:VEVENT
BEGIN:VEVENT
DTSTART;TZID=America/Los_Angeles:20240927T120000
DTEND;TZID=America/Los_Angeles:20240927T140000
DTSTAMP:20260419T063303
CREATED:20240828T180314Z
LAST-MODIFIED:20240903T222101Z
UID:10002310-1727438400-1727445600@sancarlosflight.com
SUMMARY:FOG Lunch: Watsonville (WVI)
DESCRIPTION:Come join the FlyOutGroup (FOG) on Friday\, September 27 with a scenic flight to Watsonville (WVI)! An easy location to get to from the Bay Area\, enjoy a quick hop over the Santa Cruz Mountains\, and then descend over Monterey Bay. Park in Transient Parking\, and we’ll all meet at Ellas at the Airport for lunch. \nEllas at the Airport is located in the WVI airport terminal and conveniently positioned right by the ramp of airplanes. This Italian-style restaurant is known for its great locally sourced eats from healthy salads to full-sized meals. No matter what your appetite is\, you won’t be disappointed. \nWe’re excited for the event\, and look forward to seeing you in Watsonville! Please RSVP below so we can give the restaurant a heads-up of our headcount.
URL:https://sancarlosflight.com/event/fog-lunch-watsonville-wvi/
CATEGORIES:FOG Events
ATTACH;FMTTYPE=image/png:https://sancarlosflight.com/wp-content/uploads/2024/08/FOG-Lunch-2.png
END:VEVENT
BEGIN:VEVENT
DTSTART;TZID=America/Los_Angeles:20240928T120000
DTEND;TZID=America/Los_Angeles:20240928T140000
DTSTAMP:20260419T063303
CREATED:20240903T235711Z
LAST-MODIFIED:20240906T011515Z
UID:10002312-1727524800-1727532000@sancarlosflight.com
SUMMARY:SCFC Open Hangar and BBQ
DESCRIPTION:Recently\, Team SCFC completed our move into the hangar next door\, centralizing all of our maintenance operations. On Sep. 28\, come check out our new hangar and join us for a BBQ! \nWe invite everyone for an afternoon filled with food\, drinks\, and fun! The BBQ will be at our hangar\, but you can come in through our main office at 795 Skyway Road\, Ste. A. \nDon’t forget to RSVP so we have an accurate headcount! See you on Sep. 28 at 12 noon!
URL:https://sancarlosflight.com/event/scfc-open-hangar-and-bbq/
CATEGORIES:SCFC Events
ATTACH;FMTTYPE=image/jpeg:https://sancarlosflight.com/wp-content/uploads/2024/09/JuneBBQ24-11-1-scaled.jpg
END:VEVENT
END:VCALENDAR