BEGIN:VCALENDAR
VERSION:2.0
PRODID:-//San Carlos Flight Center - ECPv6.15.13//NONSGML v1.0//EN
CALSCALE:GREGORIAN
METHOD:PUBLISH
X-WR-CALNAME:San Carlos Flight Center
X-ORIGINAL-URL:https://sancarlosflight.com
X-WR-CALDESC:Events for San Carlos Flight Center
REFRESH-INTERVAL;VALUE=DURATION:PT1H
X-Robots-Tag:noindex
X-PUBLISHED-TTL:PT1H
BEGIN:VTIMEZONE
TZID:America/Los_Angeles
BEGIN:DAYLIGHT
TZOFFSETFROM:-0800
TZOFFSETTO:-0700
TZNAME:PDT
DTSTART:20180311T100000
END:DAYLIGHT
BEGIN:STANDARD
TZOFFSETFROM:-0700
TZOFFSETTO:-0800
TZNAME:PST
DTSTART:20181104T090000
END:STANDARD
BEGIN:DAYLIGHT
TZOFFSETFROM:-0800
TZOFFSETTO:-0700
TZNAME:PDT
DTSTART:20190310T100000
END:DAYLIGHT
BEGIN:STANDARD
TZOFFSETFROM:-0700
TZOFFSETTO:-0800
TZNAME:PST
DTSTART:20191103T090000
END:STANDARD
BEGIN:DAYLIGHT
TZOFFSETFROM:-0800
TZOFFSETTO:-0700
TZNAME:PDT
DTSTART:20200308T100000
END:DAYLIGHT
BEGIN:STANDARD
TZOFFSETFROM:-0700
TZOFFSETTO:-0800
TZNAME:PST
DTSTART:20201101T090000
END:STANDARD
END:VTIMEZONE
BEGIN:VEVENT
DTSTART;TZID=America/Los_Angeles:20190918T190000
DTEND;TZID=America/Los_Angeles:20190918T190000
DTSTAMP:20260425T062051
CREATED:20190904T233808Z
LAST-MODIFIED:20190904T233808Z
UID:10001545-1568833200-1568833200@sancarlosflight.com
SUMMARY:A Day in the Life of a Charter Pilot
DESCRIPTION:It’s impossible to learn the answer to every situation while you are a student pilot. Most of a pilot’s learning happens after becoming a private pilot\, and continues with every flight. Even after flying for so many years\, pilot’s will encounter some interesting and unexpected situations that they never experienced before. \nWith over 20 years of flying as a charter pilot\, Capt. Ben Taber has had numerous unforgettable moments in the cockpit. In this seminar\, he will discuss his memorable times as a charter pilot\, often when something did not go as planned and he was forced to adapt to a situation. \nIf you have ever wondered about the daily experiences professional pilots face\, this is ought to seek your interest. \nCapt. Bennett Taber is a check airman and training captain with over 20 years and 16\,000 hours of air charter experience throughout the western United States. His first 500 hours of flying were conducted in Alaska. Captain Taber manages flight operations and charter sales for Dreamline Aviation in the San Francisco Bay Area and is a Dreamline Training Captain in Beech King Air aircraft. \nSan Carlos Flight Center (SCFC) is the SF Bay area’s most dynamic flying club\, committed to building general aviation thought safety\, community\, and adventure. AOPA has consistently recognized SCFC in their Best Flight School survey\, most recently in 2018 as the best flight school in the West. \nSCFC is committed to promoting safety in general aviation through our regular safety seminar and guest speaker programs. Space is often limited so it is important to sign up early. SCFC members may choose to watch the seminar live over the web at home\, or recorded at a later date. Contact a SCFC member service rep at (650) 946-1700 for more information about online access.
URL:https://sancarlosflight.com/event/a-day-in-the-life-of-a-charter-pilot/
LOCATION:San Carlos Flight Center\, Select a Country:
CATEGORIES:SCFC Events
ATTACH;FMTTYPE=image/png:https://sancarlosflight.com/wp-content/uploads/2019/09/download.png
ORGANIZER;CN="San Carlos Flight Center":MAILTO:info@sancarlosflight.com
END:VEVENT
BEGIN:VEVENT
DTSTART;VALUE=DATE:20190920
DTEND;VALUE=DATE:20190921
DTSTAMP:20260425T062051
CREATED:20190717T185833Z
LAST-MODIFIED:20190828T192053Z
UID:10001542-1568937600-1569023999@sancarlosflight.com
SUMMARY:Storm Area 51 - They Can't Stop All of the Bay Flight Fleet
DESCRIPTION:Make sure you’re current to take passengers because we’re flying all the aliens back the Bay Area
URL:https://sancarlosflight.com/event/storm-area-51-they-cant-stop-all-of-the-bay-flight-fleet/
LOCATION:San Carlos Flight Center\, Select a Country:
CATEGORIES:FOG Events
ATTACH;FMTTYPE=image/jpeg:https://sancarlosflight.com/wp-content/uploads/2019/07/download.jpg
ORGANIZER;CN="San Carlos Flight Center":MAILTO:info@sancarlosflight.com
END:VEVENT
END:VCALENDAR