BEGIN:VCALENDAR
VERSION:2.0
PRODID:-//San Carlos Flight Center - ECPv6.15.13//NONSGML v1.0//EN
CALSCALE:GREGORIAN
METHOD:PUBLISH
X-ORIGINAL-URL:https://sancarlosflight.com
X-WR-CALDESC:Events for San Carlos Flight Center
REFRESH-INTERVAL;VALUE=DURATION:PT1H
X-Robots-Tag:noindex
X-PUBLISHED-TTL:PT1H
BEGIN:VTIMEZONE
TZID:America/Los_Angeles
BEGIN:DAYLIGHT
TZOFFSETFROM:-0800
TZOFFSETTO:-0700
TZNAME:PDT
DTSTART:20180311T100000
END:DAYLIGHT
BEGIN:STANDARD
TZOFFSETFROM:-0700
TZOFFSETTO:-0800
TZNAME:PST
DTSTART:20181104T090000
END:STANDARD
BEGIN:DAYLIGHT
TZOFFSETFROM:-0800
TZOFFSETTO:-0700
TZNAME:PDT
DTSTART:20190310T100000
END:DAYLIGHT
BEGIN:STANDARD
TZOFFSETFROM:-0700
TZOFFSETTO:-0800
TZNAME:PST
DTSTART:20191103T090000
END:STANDARD
BEGIN:DAYLIGHT
TZOFFSETFROM:-0800
TZOFFSETTO:-0700
TZNAME:PDT
DTSTART:20200308T100000
END:DAYLIGHT
BEGIN:STANDARD
TZOFFSETFROM:-0700
TZOFFSETTO:-0800
TZNAME:PST
DTSTART:20201101T090000
END:STANDARD
END:VTIMEZONE
BEGIN:VEVENT
DTSTART;VALUE=DATE:20190705
DTEND;VALUE=DATE:20190709
DTSTAMP:20260425T095639
CREATED:20190610T210840Z
LAST-MODIFIED:20200211T183959Z
UID:10001537-1562284800-1562630399@sancarlosflight.com
SUMMARY:FOG Seattle
DESCRIPTION:Let’s visit Seattle and the Museum of Flight
URL:https://sancarlosflight.com/event/fog-seattle/
CATEGORIES:FOG Events
ATTACH;FMTTYPE=image/png:https://sancarlosflight.com/wp-content/uploads/2019/05/FOG-logo-1.png
ORGANIZER;CN="San Carlos Flight Center":MAILTO:info@sancarlosflight.com
END:VEVENT
BEGIN:VEVENT
DTSTART;TZID=America/Los_Angeles:20190727T120000
DTEND;TZID=America/Los_Angeles:20190727T120000
DTSTAMP:20260425T095639
CREATED:20190717T184329Z
LAST-MODIFIED:20190717T184329Z
UID:10001541-1564228800-1564228800@sancarlosflight.com
SUMMARY:Changes to the Noise Abatement Procedures at KSQL
DESCRIPTION:San Carlos Airport has very specific departure procedures to limit the noise of airplanes above residential areas. Right now\, KSQL has the Bay Meadows\, Woodside\, and Belmont Slough departures\, but at the end of the month\, new noise abatement procedures will be released. Every pilot will need to immediately adopt these new guidelines. \nIn this seminar\, we have KSQL Airport Communications Specialist Davi Howard explaining the new departure names and procedures\, something every pilot flying to and from KSQL needs to know. Come join us before San Carlos Flight Center’s July BBQ for this seminar. \nDavi Howard is a dynamic speaker and being a controller and a pilot\, he will bring some great perspectives to this seminar. \nDavi Howard currently works with San Mateo County Airports as the Airport Communications Specialist. He spent 36 years as an Air Traffic Controller (10 years in the U.S. Air Force and 26 years working for the FAA: 6 years here at SQL\, 3 years at SJC and 17 years at SFO). Davi holds a single engine land Private Pilot’s Certificate. \nSan Carlos Flight Center (SCFC) is the SF Bay area’s most dynamic flying club\, committed to building general aviation thought safety\, community\, and adventure. AOPA has consistently recognized SCFC in their Best Flight School survey\, most recently in 2018 as the best flight school in the West. \nSCFC is committed to promoting safety in general aviation through our regular safety seminar and guest speaker programs. Space is often limited so it is important to sign up early. SCFC members may choose to watch the seminar live over the web at home\, or recorded at a later date. Contact a SCFC member service rep at (650) 946-1700 for more information about online access.
URL:https://sancarlosflight.com/event/changes-to-the-noise-abatement-procedures-at-ksql-2/
LOCATION:San Carlos Flight Center\, Select a Country:
CATEGORIES:SCFC Events
ATTACH;FMTTYPE=image/png:https://sancarlosflight.com/wp-content/uploads/2019/07/noise-abatement.png
ORGANIZER;CN="San Carlos Flight Center":MAILTO:info@sancarlosflight.com
END:VEVENT
END:VCALENDAR